BEGIN:VCALENDAR
VERSION:2.0
PRODID:-//Tanzer 16 Class Association - ECPv6.15.19//NONSGML v1.0//EN
CALSCALE:GREGORIAN
METHOD:PUBLISH
X-ORIGINAL-URL:https://tanzer16.org
X-WR-CALDESC:Events for Tanzer 16 Class Association
REFRESH-INTERVAL;VALUE=DURATION:PT1H
X-Robots-Tag:noindex
X-PUBLISHED-TTL:PT1H
BEGIN:VTIMEZONE
TZID:America/New_York
BEGIN:DAYLIGHT
TZOFFSETFROM:-0500
TZOFFSETTO:-0400
TZNAME:EDT
DTSTART:20170312T070000
END:DAYLIGHT
BEGIN:STANDARD
TZOFFSETFROM:-0400
TZOFFSETTO:-0500
TZNAME:EST
DTSTART:20171105T060000
END:STANDARD
BEGIN:DAYLIGHT
TZOFFSETFROM:-0500
TZOFFSETTO:-0400
TZNAME:EDT
DTSTART:20180311T070000
END:DAYLIGHT
BEGIN:STANDARD
TZOFFSETFROM:-0400
TZOFFSETTO:-0500
TZNAME:EST
DTSTART:20181104T060000
END:STANDARD
BEGIN:DAYLIGHT
TZOFFSETFROM:-0500
TZOFFSETTO:-0400
TZNAME:EDT
DTSTART:20190310T070000
END:DAYLIGHT
BEGIN:STANDARD
TZOFFSETFROM:-0400
TZOFFSETTO:-0500
TZNAME:EST
DTSTART:20191103T060000
END:STANDARD
END:VTIMEZONE
BEGIN:VEVENT
DTSTART;VALUE=DATE:20180615
DTEND;VALUE=DATE:20180618
DTSTAMP:20260420T231500
CREATED:20180303T035437Z
LAST-MODIFIED:20180303T035437Z
UID:1282-1529092800-1529265599@tanzer16.org
SUMMARY:Governor's Cup/ North Carolina Championship
DESCRIPTION:The South Atlantic Yacht Racing Association presents:\nSAYRA ONE DESIGN CHAMPIONSHIP 2018\nTANZER 16 \nRules:\nRaces will be governed by the rules as defined in The Racing Rules of Sailing. Each individual event shall be\ngoverned by its Notice of Race and Sailing Instructions. \nEligibility:\nAll members in good standing of the Tanzer 16 Class Association at the time of the event are eligible to\ncompete and count as a “beaten boat”. \nQualification and Scoring:\nThree bonus points will be assigned to each skipper who attends any SAYRA Regatta and is counted by the\nRace Committee as a starter in at least one race. Only bonus 3 points may be earned by any skipper per\nSAYRA Regatta event. In addition\, one point will be awarded for each SAYRA-eligible boat a skipper finishes\nahead of in the final standings of each Regatta event. \nThree races are required for minimum participation. \nOnly the four highest point scoring weekends of the six SAYRA events will count toward SAYRA season\nscoring. The boat with the most points wins the 2018 Tanzer 16 SAYRA Championship. \nSchedule of events: \nJune 2-3           Mayor’s Cup/MAD Championship Lake Townsend\, G’boro NC\nJune 16-17        Governor’s Cup NC State Championship Kerr Lake\nJuly 7                 One Day Regatta w/CSC Kerr Lake\nAugust 25-26   National Championship and Blackbeard One Design Regatta\, Blackbeard Sailing Club\, New Bern\nOctober 13-14  Indian Summer Regatta Lake Waccamaw NC
URL:https://tanzer16.org/events-calendar/gov-cup-states-2/
LOCATION:NC
CATEGORIES:SAYRA Regatta Series
END:VEVENT
END:VCALENDAR