BEGIN:VCALENDAR
VERSION:2.0
PRODID:-//Tanzer 16 Class Association - ECPv6.15.19//NONSGML v1.0//EN
CALSCALE:GREGORIAN
METHOD:PUBLISH
X-WR-CALNAME:Tanzer 16 Class Association
X-ORIGINAL-URL:https://tanzer16.org
X-WR-CALDESC:Events for Tanzer 16 Class Association
REFRESH-INTERVAL;VALUE=DURATION:PT1H
X-Robots-Tag:noindex
X-PUBLISHED-TTL:PT1H
BEGIN:VTIMEZONE
TZID:America/New_York
BEGIN:DAYLIGHT
TZOFFSETFROM:-0500
TZOFFSETTO:-0400
TZNAME:EDT
DTSTART:20190310T070000
END:DAYLIGHT
BEGIN:STANDARD
TZOFFSETFROM:-0400
TZOFFSETTO:-0500
TZNAME:EST
DTSTART:20191103T060000
END:STANDARD
BEGIN:DAYLIGHT
TZOFFSETFROM:-0500
TZOFFSETTO:-0400
TZNAME:EDT
DTSTART:20200308T070000
END:DAYLIGHT
BEGIN:STANDARD
TZOFFSETFROM:-0400
TZOFFSETTO:-0500
TZNAME:EST
DTSTART:20201101T060000
END:STANDARD
BEGIN:DAYLIGHT
TZOFFSETFROM:-0500
TZOFFSETTO:-0400
TZNAME:EDT
DTSTART:20210314T070000
END:DAYLIGHT
BEGIN:STANDARD
TZOFFSETFROM:-0400
TZOFFSETTO:-0500
TZNAME:EST
DTSTART:20211107T060000
END:STANDARD
END:VTIMEZONE
BEGIN:VEVENT
DTSTART;VALUE=DATE:20200926
DTEND;VALUE=DATE:20200928
DTSTAMP:20260420T212545
CREATED:20200731T003846Z
LAST-MODIFIED:20220419T174738Z
UID:2197-1601078400-1601251199@tanzer16.org
SUMMARY:Mid-Atlantic District Championship (CANCELLED)
DESCRIPTION:
URL:https://tanzer16.org/events-calendar/mid-atlantic-district-championship-ltyc-mayors-cup/
LOCATION:Lake Townsend\, Greensboro\, NC
CATEGORIES:SAYRA Regatta Series
END:VEVENT
END:VCALENDAR